Workbook

Sheet Parametros
A1: PARÁMETROS
A3: SUPUESTOS ILUSTRATIVOS (editables; no son datos publicados)
A4: Horas de un experto para entender y comprobar un manuscrito | B4: 40
A5: Expertos disponibles en cada disciplina | B5: 25
A6: Horas por semana que cada experto dedica a esta tarea | B6: 5
A8: DATOS DEL REPOSITORIO (github.com/openai/math, leído el 10 de octubre de 2026)
A9: Manuscritos en el catálogo (README e historial) | B9: 719
A10: Familias de resultados (README) | B10: 372
A11: Resultados principales formalizados según el historial del 7 de octubre (300 de 719) | B11: 300
A12: Documentos con resultado principal formalizado, según el catálogo lean/formalization.yaml (v0.4) | B12: 173
A13: De ellos, los que pude asociar a un manuscrito y a una familia | B13: 172
A15: Las columnas de la hoja Disciplinas salen de cruzar tres archivos del repositorio: overview.pdf (disciplina de cada familia), CONTENTS.md (manuscritos de cada familia) y lean/formalization.yaml (manuscritos con resultado formalizado).
A16: Los dos conteos de formalización (300 de 719 y 173 documentos) miden cosas distintas: el primero cuenta resultados principales; el segundo, documentos con un resultado principal formalizado en el catálogo.

Sheet Resumen
A1: RESUMEN
A3: Familias de resultados | B3: =Disciplinas!B19
A4: Manuscritos | B4: =Disciplinas!C19
A5: Familias con algún manuscrito formalizado | B5: =Disciplinas!D19
A6: % de familias con formalización | B6: =Disciplinas!F19
A7: Manuscritos con resultado principal formalizado (asociados) | B7: =Disciplinas!E19
A8: Manuscritos sin formalizar según el catálogo | B8: =Disciplinas!G19
A9: % de manuscritos sin formalizar según el catálogo | B9: =B8/B4
A10: Disciplina con mayor % de familias formalizadas | B10: =INDEX(Disciplinas!A2:A18,MATCH(MAX(Disciplinas!F2:F18),Disciplinas!F2:F18,0))
A11: Disciplina con menor % de familias formalizadas | B11: =INDEX(Disciplinas!A2:A18,MATCH(MIN(Disciplinas!F2:F18),Disciplinas!F2:F18,0))
A12: Disciplina con más trabajo de revisión humana | B12: =INDEX(Disciplinas!A2:A18,MATCH(MAX(Disciplinas!H2:H18),Disciplinas!H2:H18,0))
A13: Semanas de revisión de esa disciplina (supuestos) | B13: =MAX(Disciplinas!H2:H18)
A14: Años de revisión de esa disciplina (supuestos) | B14: =B13/52
A15: Horas totales de revisión de los manuscritos sin formalizar según el catálogo (supuestos) | B15: =B8*Parametros!B4

Sheet Disciplinas
A1: Disciplina | B1: Familias de resultados | C1: Manuscritos | D1: Familias con algún manuscrito formalizado | E1: Manuscritos con resultado principal formalizado | F1: % de familias con formalización | G1: Manuscritos sin formalizar | H1: Semanas de revisión humana (supuestos)
A2: Probabilidad y mecánica estadística | B2: 29 | C2: 105 | D2: 9 | E2: 12 | F2: =D2/B2 | G2: =C2-E2 | H2: =G2*Parametros!$B$4/(Parametros!$B$5*Parametros!$B$6)
A3: Geometría algebraica y compleja | B3: 36 | C3: 86 | D3: 7 | E3: 9 | F3: =D3/B3 | G3: =C3-E3 | H3: =G3*Parametros!$B$4/(Parametros!$B$5*Parametros!$B$6)
A4: Informática teórica | B4: 40 | C4: 73 | D4: 22 | E4: 32 | F4: =D4/B4 | G4: =C4-E4 | H4: =G4*Parametros!$B$4/(Parametros!$B$5*Parametros!$B$6)
A5: Física matemática | B5: 25 | C5: 59 | D5: 6 | E5: 7 | F5: =D5/B5 | G5: =C5-E5 | H5: =G5*Parametros!$B$4/(Parametros!$B$5*Parametros!$B$6)
A6: Teoría de números | B6: 31 | C6: 58 | D6: 7 | E6: 8 | F6: =D6/B6 | G6: =C6-E6 | H6: =G6*Parametros!$B$4/(Parametros!$B$5*Parametros!$B$6)
A7: Combinatoria | B7: 37 | C7: 50 | D7: 18 | E7: 20 | F7: =D7/B7 | G7: =C7-E7 | H7: =G7*Parametros!$B$4/(Parametros!$B$5*Parametros!$B$6)
A8: Geometría diferencial | B8: 29 | C8: 49 | D8: 8 | E8: 10 | F8: =D8/B8 | G8: =C8-E8 | H8: =G8*Parametros!$B$4/(Parametros!$B$5*Parametros!$B$6)
A9: Álgebras de operadores | B9: 19 | C9: 31 | D9: 7 | E9: 7 | F9: =D9/B9 | G9: =C9-E9 | H9: =G9*Parametros!$B$4/(Parametros!$B$5*Parametros!$B$6)
A10: Geometría convexa y métrica | B10: 15 | C10: 30 | D10: 10 | E10: 13 | F10: =D10/B10 | G10: =C10-E10 | H10: =G10*Parametros!$B$4/(Parametros!$B$5*Parametros!$B$6)
A11: Álgebra | B11: 18 | C11: 29 | D11: 8 | E11: 11 | F11: =D11/B11 | G11: =C11-E11 | H11: =G11*Parametros!$B$4/(Parametros!$B$5*Parametros!$B$6)
A12: Ecuaciones en derivadas parciales | B12: 16 | C12: 29 | D12: 3 | E12: 3 | F12: =D12/B12 | G12: =C12-E12 | H12: =G12*Parametros!$B$4/(Parametros!$B$5*Parametros!$B$6)
A13: Topología | B13: 18 | C13: 26 | D13: 1 | E13: 1 | F13: =D13/B13 | G13: =C13-E13 | H13: =G13*Parametros!$B$4/(Parametros!$B$5*Parametros!$B$6)
... A18: Lógica matemática | B18: 6 | C18: 8 | D18: 5 | E18: 5 | F18: =D18/B18 | G18: =C18-E18 | H18: =G18*Parametros!$B$4/(Parametros!$B$5*Parametros!$B$6)
A19: Total | B19: =SUM(B2:B18) | C19: =SUM(C2:C18) | D19: =SUM(D2:D18) | E19: =SUM(E2:E18) | F19: =D19/B19 | G19: =SUM(G2:G18)
